BEGIN:VCALENDAR
VERSION:2.0
PRODID:-//ChamberMaster//Event Calendar 2.0//EN
METHOD:PUBLISH
X-PUBLISHED-TTL:P3D
REFRESH-INTERVAL:P3D
CALSCALE:GREGORIAN
BEGIN:VEVENT
DTSTART:20101030T170000Z
DTEND:20101030T210000Z
X-MICROSOFT-CDO-ALLDAYEVENT:FALSE
SUMMARY:Event at Dakota Pet Marketplace
DESCRIPTION:Dakota Pet MarketPlace 1st Annual Halloween Tricks and Treats Open House.  Bring in your furry friend in costume and have them sample some yummy new dog treats we will be carrying.  We will even have people treats\, too!   Prizes for costumes and best pet tricks.
X-ALT-DESC;FMTTYPE=text/html:Dakota Pet MarketPlace 1st Annual Halloween Tricks and Treats Open House.  Bring in your furry friend in costume and have them sample some yummy new dog treats we will be carrying.  We will even have people treats\, too!   Prizes for costumes and best pet tricks.
LOCATION:Dakota Pet MarketPlace 105 2 2nd St\, Downtown
UID:e.606.111996
SEQUENCE:3
DTSTAMP:20260425T111606Z
URL:https://www.hastingsmn.org/events/details/event-at-dakota-pet-marketplace-10-30-2010-111996
END:VEVENT

END:VCALENDAR
