BEGIN:VCALENDAR
VERSION:2.0
PRODID:-//ChamberMaster//Event Calendar 2.0//EN
METHOD:PUBLISH
X-PUBLISHED-TTL:P3D
REFRESH-INTERVAL:P3D
CALSCALE:GREGORIAN
BEGIN:VEVENT
DTSTART:20100623T130000Z
DTEND:20100623T170000Z
X-MICROSOFT-CDO-ALLDAYEVENT:FALSE
SUMMARY:Event at Bellwood Oaks Golf Course
DESCRIPTION:MGA State Amateur Qualifier
X-ALT-DESC;FMTTYPE=text/html:MGA State Amateur Qualifier 
LOCATION:Bellwood Oaks Golf Course13239 210th StHastings\, MN 55033
UID:e.606.111587
SEQUENCE:3
DTSTAMP:20260425T154022Z
URL:https://www.hastingsmn.org/events/details/event-at-bellwood-oaks-golf-course-06-23-2010-111587
END:VEVENT

END:VCALENDAR
