BEGIN:VCALENDAR
VERSION:2.0
PRODID:-//ChamberMaster//Event Calendar 2.0//EN
METHOD:PUBLISH
X-PUBLISHED-TTL:P3D
REFRESH-INTERVAL:P3D
CALSCALE:GREGORIAN
BEGIN:VEVENT
DTSTART:20120820T000000Z
DTEND:20120820T013000Z
X-MICROSOFT-CDO-ALLDAYEVENT:FALSE
SUMMARY:Eric Thomas Trio Concert at the LeDuc Mansion estate
DESCRIPTION:The Hastings Concert Association and numerous Hastings area businesses sponsor free outdoor concerts on Sunday evenings in August.  The concerts are held on the estate of the LeDuc Mansion on Vermillion Street in Hastings\, MN.  Everyone is welcome to attend.  Pie\, ice cream\, and coffee will be available for purchase from local civic groups.  The LeDuc Mansion is open for tours (prices vary) prior to the concerts.  Please bring a lawn chair to sit on.  In case of inclement weather\, the concerts will be moved inside to Our Savior's Lutheran Church in Hastings.  Brochures and tickets for the upcoming 2012 - 2013 Hastings Concert Association series held at the Hastings Middle School auditorium are also available for purchase at the August concerts.
X-ALT-DESC;FMTTYPE=text/html:The Hastings Concert Association and numerous Hastings area businesses sponsor free outdoor concerts on Sunday evenings in August. &nbsp\;The concerts are held on the estate of the LeDuc Mansion on Vermillion Street in Hastings\, MN. &nbsp\;Everyone is welcome to attend. &nbsp\;Pie\, ice cream\, and coffee will be available for purchase from local civic groups. &nbsp\;The LeDuc Mansion is open for tours (prices vary) prior to the concerts. &nbsp\;Please bring a lawn chair to sit on. &nbsp\;In case of inclement weather\, the concerts will be moved inside to Our Savior&#39\;s Lutheran Church in Hastings. &nbsp\;Brochures and tickets for the upcoming 2012 - 2013 Hastings Concert Association series held at the Hastings Middle School auditorium are also available for purchase at the August concerts.
LOCATION:LeDuc Mansion estate Vermillion Street in Hastings
UID:e.606.113684
SEQUENCE:3
DTSTAMP:20260420T013648Z
URL:https://www.hastingsmn.org/events/details/eric-thomas-trio-concert-at-the-leduc-mansion-estate-08-19-2012-113684
END:VEVENT

END:VCALENDAR
