BEGIN:VCALENDAR
VERSION:2.0
PRODID:-//ChamberMaster//Event Calendar 2.0//EN
METHOD:PUBLISH
X-PUBLISHED-TTL:P3D
REFRESH-INTERVAL:P3D
CALSCALE:GREGORIAN
BEGIN:VEVENT
DTSTART;VALUE=DATE:20121106
DTEND;VALUE=DATE:20121107
TRANSP:TRANSPARENT
X-MICROSOFT-CDO-ALLDAYEVENT:TRUE
SUMMARY:Election Day Poll Finder
DESCRIPTION:Not sure where to vote?  Click on the following link and enter the requested information to find your polling location.\n\n\n\nhttp://pollfinder.sos.state.mn.us/
X-ALT-DESC;FMTTYPE=text/html:Not sure where to vote?&nbsp\; Click on the following link and enter the requested information to find your polling location.<br />\n<br />\n<a href="http://pollfinder.sos.state.mn.us/">http://pollfinder.sos.state.mn.us/</a><span _fck_bookmark="1" style="display: none">&nbsp\;</span>
LOCATION:http://pollfinder.sos.state.mn.us/
UID:e.606.113734
SEQUENCE:3
DTSTAMP:20260419T215519Z
URL:https://www.hastingsmn.org/events/details/election-day-poll-finder-11-06-2012-113734
END:VEVENT

END:VCALENDAR
