BEGIN:VCALENDAR
VERSION:2.0
PRODID:-//ChamberMaster//Event Calendar 2.0//EN
METHOD:PUBLISH
X-PUBLISHED-TTL:P3D
REFRESH-INTERVAL:P3D
CALSCALE:GREGORIAN
BEGIN:VEVENT
DTSTART;VALUE=DATE:20130330
DTEND;VALUE=DATE:20130331
TRANSP:TRANSPARENT
X-MICROSOFT-CDO-ALLDAYEVENT:TRUE
SUMMARY:Edina Realty's 26th Annual Easter Egg Hunt
DESCRIPTION:Annual Easter Egg Hunt for children up to age 8. \n\n	\n		Bring your Easter baskets\n	\n		Some prizes to be awarded\n	\n		Come early to meet the Easter Bunny!
X-ALT-DESC;FMTTYPE=text/html:Annual Easter Egg Hunt for children up to age 8.&nbsp\;\n<ul>\n	<li>\n		Bring your Easter baskets</li>\n	<li>\n		Some prizes to be awarded</li>\n	<li>\n		Come early to meet the Easter Bunny!</li>\n</ul>\n
LOCATION:Roadside Park (on HWY 55 By the Aquatic Center)
UID:e.606.113784
SEQUENCE:3
DTSTAMP:20260419T131244Z
URL:https://www.hastingsmn.org/events/details/edina-realty-s-26th-annual-easter-egg-hunt-03-30-2013-113784
END:VEVENT

END:VCALENDAR
