BEGIN:VCALENDAR
VERSION:2.0
PRODID:-//ChamberMaster//Event Calendar 2.0//EN
METHOD:PUBLISH
X-PUBLISHED-TTL:P3D
REFRESH-INTERVAL:P3D
CALSCALE:GREGORIAN
BEGIN:VEVENT
DTSTART:20120407T150000Z
DTEND:20120407T151500Z
X-MICROSOFT-CDO-ALLDAYEVENT:FALSE
SUMMARY:Edina Realty 25th Easter Egg Hunt
DESCRIPTION:For children up to age 8.  Bring your Easter Baskets.  Come early to meet the Easter Bunny and get a ticket for the prize.
X-ALT-DESC;FMTTYPE=text/html:<div>\n	For children up to age 8.&nbsp\; Bring your Easter Baskets.&nbsp\; Come early to&nbsp\;meet the Easter Bunny and get a ticket for the prize.</div>\n
LOCATION:Roadside Park - Hwy. 55 Hastings
UID:e.606.113641
SEQUENCE:3
DTSTAMP:20260422T084151Z
URL:https://www.hastingsmn.org/events/details/edina-realty-25th-easter-egg-hunt-04-07-2012-113641
END:VEVENT

END:VCALENDAR
