BEGIN:VCALENDAR
VERSION:2.0
PRODID:-//ChamberMaster//Event Calendar 2.0//EN
METHOD:PUBLISH
X-PUBLISHED-TTL:P3D
REFRESH-INTERVAL:P3D
CALSCALE:GREGORIAN
BEGIN:VEVENT
DTSTART:20130315T000000Z
DTEND:20130315T010000Z
X-MICROSOFT-CDO-ALLDAYEVENT:FALSE
SUMMARY:Community Yellow Ribbon Meeting
DESCRIPTION:Topics will include what it means "Take Care of My Family" and "Bring Them All The Way Home"\, which extends from the cradle to the last remembrance "Military Honors" and the Military/Veteran Community Picnic. Open to anyone\, especially our military\, veterans\, and families.
X-ALT-DESC;FMTTYPE=text/html:Topics will include what it means &quot\;Take Care of My Family&quot\; and &quot\;Bring Them All The Way Home&quot\;\, which extends from the cradle to the last remembrance &quot\;Military Honors&quot\; and the Military/Veteran Community Picnic. Open to anyone\, especially our military\, veterans\, and families.
LOCATION:Nelson Lucking American Legion Post 47 30 Sibley Street Hastings\, MN
UID:e.606.113769
SEQUENCE:3
DTSTAMP:20260419T150429Z
URL:https://www.hastingsmn.org/events/details/community-yellow-ribbon-meeting-03-14-2013-113769
END:VEVENT

END:VCALENDAR
