BEGIN:VCALENDAR
VERSION:2.0
PRODID:-//ChamberMaster//Event Calendar 2.0//EN
METHOD:PUBLISH
X-PUBLISHED-TTL:P3D
REFRESH-INTERVAL:P3D
CALSCALE:GREGORIAN
BEGIN:VEVENT
DTSTART:20130428T180000Z
DTEND:20130428T210000Z
X-MICROSOFT-CDO-ALLDAYEVENT:FALSE
SUMMARY:Community Military/Veteran Picnic
DESCRIPTION:The Hastings High School Military Support Group is hosting a community picnic\, along with family recreational activities\, specifically for service members\, veterans\, and their families on Sunday\, 28 April\, 1:00 to 4:00 p.m. at the Hastings National Guard Armory\, 3050 Red Wing Blvd. The picnic is free and support can be demonstrated by contacting Kim Hoff\, khoff@hastings.k12.mn.us\, or Justin Hahn\, jhahn@hastings.k12.mn.us\, Support Group Leaders.
X-ALT-DESC;FMTTYPE=text/html:<p class="MsoNormal" style="margin: 0in 0in 0pt">\n	<span style="font-family: 'Arial'\, 'sans-serif'\; color: black"><font size="3">The Hastings High School Military Support Group is hosting a community picnic\, along with family recreational activities\, specifically for service members\, veterans\, and their families on Sunday\, 28 April\, 1:00 to 4:00 p.m. at the Hastings National Guard Armory\, 3050 Red Wing Blvd. The picnic is free and support can be demonstrated by contacting Kim Hoff\, </font></span><a href="mailto:khoff@hastings.k12.mn.us"><span style="font-family: 'Arial'\, 'sans-serif'"><font color="#0000ff" size="3">khoff@hastings.k12.mn.us</font></span></a><span style="font-family: 'Arial'\, 'sans-serif'\; color: black"><font size="3">\, or Justin Hahn\, </font></span><a href="mailto:jhahn@hastings.k12.mn.us"><span style="font-family: 'Arial'\, 'sans-serif'"><font color="#0000ff" size="3">jhahn@hastings.k12.mn.us</font></span></a><span style="font-family: 'Arial'\, 'sans-serif'\; color: black"><font size="3">\, Support Group Leaders.<o:p></o:p></font></span></p>\n
LOCATION:Hastings National Guard Armory 3050 Red Wing Blvd
UID:e.606.113809
SEQUENCE:3
DTSTAMP:20260419T131412Z
URL:https://www.hastingsmn.org/events/details/community-military-veteran-picnic-04-28-2013-113809
END:VEVENT

END:VCALENDAR
