BEGIN:VCALENDAR
VERSION:2.0
PRODID:-//ChamberMaster//Event Calendar 2.0//EN
METHOD:PUBLISH
X-PUBLISHED-TTL:P3D
REFRESH-INTERVAL:P3D
CALSCALE:GREGORIAN
BEGIN:VEVENT
DTSTART:20121026T223000Z
DTEND:20121027T010000Z
X-MICROSOFT-CDO-ALLDAYEVENT:FALSE
SUMMARY:Community Halloween Party
DESCRIPTION:There will be a Community Halloween Party at the Hastings High School commons.  Admission will be a non-perishable food item for Hastings Family Service or cash donation to the Youth First Planning Council Scholarship Fund.  This is a family-friendly event.  Please wear your best costume!  There will be food\, games\, prizes and candy for all.  Recommended for ages 12 and under.  Brought to you by Hastings Youth First\, Hastings Parks & Recreation and Hastings Community Education.
X-ALT-DESC;FMTTYPE=text/html:There will be a Community Halloween Party at the Hastings High School commons.&nbsp\; Admission will be a non-perishable food item for Hastings Family Service or cash donation to the Youth First Planning Council Scholarship Fund.&nbsp\; This is a family-friendly event.&nbsp\; Please wear your best costume!&nbsp\; There will be food\, games\, prizes and candy for all.&nbsp\; Recommended for ages 12 and under.&nbsp\; Brought to you by Hastings Youth First\, Hastings Parks &amp\; Recreation and Hastings Community Education.
LOCATION:Hastings High School commons
UID:e.606.113714
SEQUENCE:3
DTSTAMP:20260419T234057Z
URL:https://www.hastingsmn.org/events/details/community-halloween-party-10-26-2012-113714
END:VEVENT

END:VCALENDAR
