BEGIN:VCALENDAR
VERSION:2.0
PRODID:-//ChamberMaster//Event Calendar 2.0//EN
METHOD:PUBLISH
X-PUBLISHED-TTL:P3D
REFRESH-INTERVAL:P3D
CALSCALE:GREGORIAN
BEGIN:VEVENT
DTSTART:20130427T140000Z
DTEND:20130427T180000Z
X-MICROSOFT-CDO-ALLDAYEVENT:FALSE
SUMMARY:City of Hastings Household Hazardous Waste Spring Clean Up Day
DESCRIPTION:The City of Hastings will be holding a spring clean-up and household hazardous waste drop-off day in conjunction with Dakota County.  The event will be held Saturday\, April 27\, from 9 a.m. - 1 p.m. at the Cal Ruedy Public Works Garage\, 1225 Progress Drive in Hastings.
X-ALT-DESC;FMTTYPE=text/html:The City of Hastings will be holding a spring clean-up and household hazardous waste drop-off day in conjunction with Dakota County.&nbsp\; The event will be held Saturday\, April 27\, from 9 a.m. - 1 p.m. at the Cal Ruedy Public Works Garage\, 1225 Progress Drive in Hastings.
LOCATION:Cal Ruedy Public Works Garage 1225 Progress Drive Hastings
UID:e.606.113813
SEQUENCE:3
DTSTAMP:20260419T131843Z
URL:https://www.hastingsmn.org/events/details/city-of-hastings-household-hazardous-waste-spring-clean-up-day-04-27-2013-113813
END:VEVENT

END:VCALENDAR
