BEGIN:VCALENDAR
VERSION:2.0
PRODID:-//ChamberMaster//Event Calendar 2.0//EN
METHOD:PUBLISH
X-PUBLISHED-TTL:P3D
REFRESH-INTERVAL:P3D
CALSCALE:GREGORIAN
BEGIN:VEVENT
DTSTART:20130310T180000Z
DTEND:20130310T220000Z
X-MICROSOFT-CDO-ALLDAYEVENT:FALSE
SUMMARY:Chocolate March
DESCRIPTION:"Tour of Inns Dipped in Chocolate" will take place in Hastings on March 10.  Included will be Afton House Inn and Afton Historical Museum in Afton\, Classic Rosewood Inn and Thorwood Lumber Baron Condo and LeDuc Historic Estate.  See these beautiful sites while enjoying chocolate truffles\, mousse\, tortes & chocolate chai tea.  There will be a sampling of wine at one of the locations.  A percentage of the profits will benefit Second Harvest and Hastings Animal Ark.  Tickets are $26 per person (a $53 value) and may be obtained through www.innsofthevalley.com .  A bonus included this year is a $20 voucher to spend towards a night at any of the inns or participating restaurants.  See www.innsofthevalley.com for information on other sites for the Chocolate March.
X-ALT-DESC;FMTTYPE=text/html:&quot\;Tour of Inns Dipped in Chocolate&quot\; will take place in Hastings on March 10. &nbsp\;Included will be Afton House Inn and Afton Historical Museum in Afton\, Classic Rosewood Inn and Thorwood Lumber Baron Condo and LeDuc Historic Estate.&nbsp\; See these beautiful sites while enjoying chocolate truffles\, mousse\, tortes &amp\; chocolate chai tea. &nbsp\;There will be a sampling of wine at one of the locations. &nbsp\;A percentage of the profits will benefit Second Harvest and Hastings Animal Ark. &nbsp\;Tickets are $26 per person (a $53 value) and may be obtained through www.innsofthevalley.com . &nbsp\;A bonus included this year is a $20 voucher to spend towards a night at any of the inns or participating restaurants. &nbsp\;See www.innsofthevalley.com for information on other sites for the Chocolate March.&nbsp\;
LOCATION:LeDuc Historic Estate - 1629 Vermillion St.\, Hastings Rosewood Inn & Thorwood Lumber Baron Condo
UID:e.606.113785
SEQUENCE:3
DTSTAMP:20260419T131123Z
URL:https://www.hastingsmn.org/events/details/chocolate-march-03-10-2013-113785
END:VEVENT

END:VCALENDAR
