BEGIN:VCALENDAR
VERSION:2.0
PRODID:-//ChamberMaster//Event Calendar 2.0//EN
METHOD:PUBLISH
X-PUBLISHED-TTL:P3D
REFRESH-INTERVAL:P3D
CALSCALE:GREGORIAN
BEGIN:VEVENT
DTSTART:20130414T180000Z
DTEND:20130414T200000Z
X-MICROSOFT-CDO-ALLDAYEVENT:FALSE
SUMMARY:Authors' Sunday at the LeDuc Historic Estate
DESCRIPTION:Authors' Sunday at the LeDuc Historic Estate will take place on Sunday\, April 14\, 1 p.m.  This event is sponsored by Friends of LeDuc of Historic Hastings and Dakota County Historical Society.  Guest author is Atina Diffley\, who wrote "Turn Here\, Sweet Corn: Organic Farming Works."  She tells amazing tales of relationships between people\, plants\, and the earth.  Her book is a master class in organic farming\, a lesson in entrepreneurship\, a love story\, and a legal thriller all in one.\n\n\n\nFree and open to the public.
X-ALT-DESC;FMTTYPE=text/html:Authors&#39\; Sunday at the LeDuc Historic Estate will take place on Sunday\, April 14\, 1 p.m. &nbsp\;This event is sponsored by Friends of LeDuc of Historic Hastings and Dakota County Historical Society. &nbsp\;Guest author is Atina Diffley\, who wrote &quot\;Turn Here\, Sweet Corn: Organic Farming Works.&quot\; &nbsp\;She tells amazing tales of relationships between people\, plants\, and the earth. &nbsp\;Her book is a master class in organic farming\, a lesson in&nbsp\;<span style="font-size: 10pt"><span style="font-family: arial">entrepreneurship\, </span></span>a love story\, and a legal thriller all in one.<br />\n<br />\nFree and open to the public.
LOCATION:LeDuc Historic Estate 1629 Vermillion Street Hastings\, MN 55033
UID:e.606.113799
SEQUENCE:3
DTSTAMP:20260419T131752Z
URL:https://www.hastingsmn.org/events/details/authors-sunday-at-the-leduc-historic-estate-04-14-2013-113799
END:VEVENT

END:VCALENDAR
