BEGIN:VCALENDAR
VERSION:2.0
PRODID:-//ChamberMaster//Event Calendar 2.0//EN
METHOD:PUBLISH
X-PUBLISHED-TTL:P3D
REFRESH-INTERVAL:P3D
CALSCALE:GREGORIAN
BEGIN:VEVENT
DTSTART:20130317T180000Z
DTEND:20130317T200000Z
X-MICROSOFT-CDO-ALLDAYEVENT:FALSE
SUMMARY:Authors' Sunday at the LeDuc Historic Estate
DESCRIPTION:Authors' Sunday at the LeDuc Historic Estate - March 17\, 2013\, 1-4 p.m.  Free & Open to the public.  Refreshments will be served.  Authors Charlie Johnson & Patrick Mader will discuss their writing craft\, what motivates them to write\, read passages from their books\, sign & sell their books.  See more on each author @www.charlie@whistlingwellfarm.com or www.packy@patrickmader.com
X-ALT-DESC;FMTTYPE=text/html:Authors&#39\; Sunday at the LeDuc Historic Estate - March 17\, 2013\, 1-4 p.m. &nbsp\;Free &amp\; Open to the public. &nbsp\;Refreshments will be served. &nbsp\;Authors Charlie Johnson &amp\; Patrick Mader will discuss their writing craft\, what motivates them to write\, read passages from their books\, sign &amp\; sell their books. &nbsp\;See more on each author @www.charlie@whistlingwellfarm.com or www.packy@patrickmader.com
LOCATION:LeDuc Historic Estate 1629 Vermillion Street Hastings\, MN 55033
UID:e.606.113787
SEQUENCE:3
DTSTAMP:20260419T131746Z
URL:https://www.hastingsmn.org/events/details/authors-sunday-at-the-leduc-historic-estate-03-17-2013-113787
END:VEVENT

END:VCALENDAR
