BEGIN:VCALENDAR
VERSION:2.0
PRODID:-//ChamberMaster//Event Calendar 2.0//EN
METHOD:PUBLISH
X-PUBLISHED-TTL:P3D
REFRESH-INTERVAL:P3D
CALSCALE:GREGORIAN
BEGIN:VEVENT
DTSTART:20130210T190000Z
DTEND:20130210T210000Z
X-MICROSOFT-CDO-ALLDAYEVENT:FALSE
SUMMARY:Authors' Sunday at the LeDuc Historic Estate
DESCRIPTION:Authors' Sunday at the LeDuc Historic Estate\, Sunday\, February 10\, 1 p.m.  Free and open to the public.  Susan Amundson\, Pat Bauer & David Geister will explain their writing craft\, what motives them to write\, read passages from their books\, sign & sell books.  This event focuses on children's books.
X-ALT-DESC;FMTTYPE=text/html:Authors&#39\; Sunday at the LeDuc Historic Estate\, Sunday\, February 10\, 1 p.m. &nbsp\;Free and open to the public. &nbsp\;Susan Amundson\, Pat Bauer &amp\; David Geister will explain their writing craft\, what motives them to write\, read passages from their books\, sign &amp\; sell books. &nbsp\;This event focuses on children&#39\;s books.
LOCATION:LeDuc Historic Estate - 1629 Vermillion Street\, Hastings\, MN
UID:e.606.113763
SEQUENCE:3
DTSTAMP:20260419T150755Z
URL:https://www.hastingsmn.org/events/details/authors-sunday-at-the-leduc-historic-estate-02-10-2013-113763
END:VEVENT

END:VCALENDAR
