BEGIN:VCALENDAR
VERSION:2.0
PRODID:-//ChamberMaster//Event Calendar 2.0//EN
METHOD:PUBLISH
X-PUBLISHED-TTL:P3D
REFRESH-INTERVAL:P3D
CALSCALE:GREGORIAN
BEGIN:VEVENT
DTSTART:20130505T180000Z
DTEND:20130505T200000Z
X-MICROSOFT-CDO-ALLDAYEVENT:FALSE
SUMMARY:Author's Sunday at the LeDuc Historic Estate
DESCRIPTION:Author's Sunday\, May 5\, 1 p.m. at the LeDuc Historic Estate features local author Susan Amundson.  Amundson will discuss her writing craft\, what motivates her to write\, read passages from her book\, sign & sell books.  Her latest book\, "Hero Finds His Path\," is a true story of how a Samoyad handles rejection.  It is a beautiful story illustrated by Nan Holt.  This event is free and open to the public.  Refreshments will be served.
X-ALT-DESC;FMTTYPE=text/html:Author&#39\;s Sunday\, May 5\, 1 p.m. at the LeDuc Historic Estate features local author Susan Amundson.&nbsp\;&nbsp\;Amundson will discuss her writing craft\, what motivates her to write\, read passages from her book\, sign &amp\; sell books. &nbsp\;Her latest book\, &quot\;Hero Finds His Path\,&quot\; is a true story of how a Samoyad handles rejection. &nbsp\;It is a beautiful story illustrated by Nan Holt. &nbsp\;This event is free and open to the public. &nbsp\;Refreshments will be served.&nbsp\;
LOCATION:LeDuc Historic Estate - 1629 Vermillion Street\, Hastings
UID:e.606.113808
SEQUENCE:3
DTSTAMP:20260423T084435Z
URL:https://www.hastingsmn.org/events/details/author-s-sunday-at-the-leduc-historic-estate-05-05-2013-113808
END:VEVENT

END:VCALENDAR
