BEGIN:VCALENDAR
VERSION:2.0
PRODID:-//ChamberMaster//Event Calendar 2.0//EN
METHOD:PUBLISH
X-PUBLISHED-TTL:P3D
REFRESH-INTERVAL:P3D
CALSCALE:GREGORIAN
BEGIN:VEVENT
DTSTART:20130209T020000Z
DTEND:20130217T040000Z
X-MICROSOFT-CDO-ALLDAYEVENT:FALSE
SUMMARY:Almost\, Maine
DESCRIPTION:Looking for the PERFECT VALENTINE'S GIFT? Look no further! Almost\, Maine is funny\, romantic\, poignant and a charmer! A MUST SEE! Directed by Sara Pillzeha featuring NewBridge Company memebers Ethan Jensen\, Jonathan Goodman\, Stacey Sogard\, Anna Lewein and Elizabeth Tanner. "A whimsical approach to the joys and perils of romance. Magical happenings bloom beneath the snowdrifts. ALMOST\, MAINE explores the thunderclap of love and the scorched earth that sometimes follows." The New York Times
X-ALT-DESC;FMTTYPE=text/html:<span style="text-align: left\; line-height: 16px\; font-family: 'lucida grande'\, tahoma\, verdana\, arial\, sans-serif\; color: rgb(51\,51\,51)\; font-size: 13px">Looking for the PERFECT VALENTINE&#39\;S GIFT? Look no further! Almost\, Maine is funny\, romantic\, poignant and a charmer! A MUST SEE! Directed by Sara Pillzeha featuring NewBridge Company memebers Ethan Jensen\, Jonathan Goodman\, Stacey Sogard\, Anna Lewein and Elizabeth Tanner. &ldquo\;A whimsical approach to the joys and perils of romance. Magical happenings bloom beneath the snowdrifts. ALMOST\, MAINE explores the thunderclap of love and the scorched earth that sometimes follows.&rdquo\; The New York Times</span>
LOCATION:NewBridge Theatre Company
UID:e.606.113762
SEQUENCE:3
DTSTAMP:20260419T150000Z
URL:https://www.hastingsmn.org/events/details/almost-maine-02-08-2013-113762
END:VEVENT

END:VCALENDAR
