BEGIN:VCALENDAR
VERSION:2.0
PRODID:-//ChamberMaster//Event Calendar 2.0//EN
METHOD:PUBLISH
X-PUBLISHED-TTL:P3D
REFRESH-INTERVAL:P3D
CALSCALE:GREGORIAN
BEGIN:VEVENT
DTSTART:20130327T230000Z
DTEND:20130328T000000Z
X-MICROSOFT-CDO-ALLDAYEVENT:FALSE
SUMMARY:8 Week Weight Loss Challenge
DESCRIPTION:Have you ever wondered how those people on the Biggest Loser do it??  With group support that's how!!  We offer that and so much more at our Weight Loss Challenge.   This is an 8 week class - we cover a different nutritional topic every week - we will teach you about things such as protein\, carbs\, sugars\, labels\, exercise.........\n\n\n\nWe weigh in every week - we do measurements at the first class and last class.  There are cash prizes at the end for the top 3 percentage of body weight losers and an additional prize for the person that lost the most inches.  Weekly prizes and samples to help you along the way too!\n\n\n\nYou will receive group support as well as your own personal wellness coach - we do a free Wellness Consultation to help you find out about your body and help you put together a plan that is right for you!\n\n\n\nWhat do YOU have to lose???\n\n\n\nClass began on 3/20/2013 and space is still available.
X-ALT-DESC;FMTTYPE=text/html:Have you ever wondered how those people on the Biggest Loser do it?? &nbsp\;With group support that&#39\;s how!! &nbsp\;We offer that and so much more at our Weight Loss Challenge. &nbsp\; This is an 8 week class - we cover a different nutritional topic every week - we will teach you about things such as protein\, carbs\, sugars\, labels\, exercise.........<br />\n<br />\nWe weigh in every week - we do measurements at the first class and last class. &nbsp\;There are cash prizes at the end for the top 3 percentage of body weight losers and an additional prize for the person that lost the most inches. &nbsp\;Weekly prizes and samples to help you along the way too!<br />\n<br />\nYou will receive group support as well as your own personal wellness coach - we do a free Wellness Consultation to help you find out about <u>your</u> body and help you put together a plan that is right for you!<br />\n<br />\nWhat do YOU have to lose???<br />\n<br />\nClass began on 3/20/2013 and space is still available.
LOCATION:G and R Nutrition 275 33rd Street West Hastings\, MN
UID:e.606.113796
SEQUENCE:3
DTSTAMP:20260419T145404Z
URL:https://www.hastingsmn.org/events/details/8-week-weight-loss-challenge-03-27-2013-113796
END:VEVENT

END:VCALENDAR
