BEGIN:VCALENDAR
VERSION:2.0
PRODID:-//ChamberMaster//Event Calendar 2.0//EN
METHOD:PUBLISH
X-PUBLISHED-TTL:P3D
REFRESH-INTERVAL:P3D
CALSCALE:GREGORIAN
BEGIN:VEVENT
DTSTART;VALUE=DATE:20130430
DTEND;VALUE=DATE:20130502
TRANSP:TRANSPARENT
X-MICROSOFT-CDO-ALLDAYEVENT:TRUE
SUMMARY:50+ Prime Time Living Expo at Treasure Island Resort & Casino
DESCRIPTION:Don't Miss the 50+ Prime Time Living Expo at Treasure Island Resort & Casino!Receive $10 in FREE Slot Play just for attending the expo. And don't forget\, May 1st is also 50+ Wednesday at the casino!  Guests ages 50 and over\, can visit a kiosk for a chance to win up to $50 in FREE slot play\, blackjack match play or a pull tab offer!   Guests 50 and over can also receive $3 off their meal at Tradewinds Buffet. \n\n	\n\n	Headlining this year's show is Lori Campbell\, best-selling author and gerontologist\, speaking on: "How to Awaken Your Age Potential and Become the Victor not the Victim of Your Aging Journey."   \n\n	We are also thrilled to be offering complimentary screenings of Age of Champions\, a documentary based on the inspiring story of a group of athletes a 100-year-old tennis champion\, an 86-year-old pole vaulter\, a team of basketball grandmothers\, and a pair of swimming brothers all chasing gold at the National Senior Olympics. The film captures the triumphant spirit of these competitors as they tackle the challenges of old age with grace\, humor\, and optimism. \n\n	 \n\n	To find out more about the other great entertainment we have lined-up and who will be exhibiting at the spring show\, please visit  www.SeniorsExpos.com.\n\n	\n\n	To print complimentary VIP Expo tickets ($12 value- admits 2)\, please visit www.101expos.com/VIP. \n\n	Large groups desiring complimentary tickets should call event manager Michelle Rock at (612) 798-7203.\n\n	We welcome and appreciate large groups\, thus there is no limit to the number of tickets you may request.
X-ALT-DESC;FMTTYPE=text/html:<div style="color: gray">\n	<span style="font-size: 12px"><span style="font-family: arial">Don&#39\;t Miss the 50+ Prime Time Living Expo at Treasure Island Resort &amp\; Casino!Receive&nbsp\;$10 in FREE <em>Slot Play </em>just for attending the expo. And don&#39\;t forget\, May 1st is also 50+ Wednesday at the casino!&nbsp\; Guests ages 50 and over\, can visit a kiosk for&nbsp\;a chance to win up to $50 in FREE slot play\, blackjack match play or a pull tab offer!&nbsp\;&nbsp\; Guests 50 and over&nbsp\;can also receive $3 off their meal at Tradewinds Buffet.&nbsp\;<br />\n	<br />\n	Headlining this year&rsquo\;s show is Lori Campbell\, best-selling author and gerontologist\, speaking on: &quot\;<em>How&nbsp\;to <em>Awaken </em>Your Age Potential and Become the Victor not the Victim of Your Aging Journey.&quot\;&nbsp\;&nbsp\;</em>&nbsp\;<br />\n	We are also thrilled to be offering complimentary screenings of <em>Age of Champions</em>\, a documentary based on the inspiring story of a group of athletes&mdash\;a 100-year-old tennis champion\, an 86-year-old pole vaulter\, a team of basketball grandmothers\, and a pair of swimming brothers&mdash\;all chasing gold at the National Senior Olympics. The film captures the triumphant spirit of these competitors as they tackle the challenges of old age with grace\, humor\, and optimism.&nbsp\;<br />\n	&nbsp\;<br />\n	To find out more about the other great entertainment we have lined-up and who will be exhibiting at the spring show\, please visit&nbsp\; <a href="http://www.seniorsexpos.com/" title="blocked::http://www.seniorsexpos.com/"><span title="blocked::http://www.seniorsexpos.com/"><span style="color: blue"><span title="blocked::http://www.seniorsexpos.com/">www.SeniorsExpos.com</span></span></span></a>.<br />\n	<br />\n	<strong>To print complimentary VIP Expo tickets </strong>($12 value- admits 2)\, please visit&nbsp\;<a href="http://www.101expos.com/VIP" title="blocked::http://www.101expos.com/VIP"><a href="http://www.101expos.com/VIP" title="blocked::http://www.101expos.com/VIP"><span title="blocked::http://www.101expos.com/VIP"><span style="color: blue"><span title="blocked::http://www.101expos.com/VIP">www.101expos.com</span></span></span></a></a><span title="blocked::http://www.101expos.com/VIP"><span style="color: blue"><span title="blocked::http://www.101expos.com/VIP">/VIP</span></span></span>.&nbsp\;<br />\n	Large groups desiring complimentary tickets should call&nbsp\;event manager Michelle Rock at (612) 798-7203.<br />\n	We welcome and appreciate large groups\, thus there is no limit to the number of tickets you may request. </span></span></div>\n
LOCATION:Treasure Island Resort and Casino Welch\, MN
UID:e.606.113803
SEQUENCE:3
DTSTAMP:20260421T082935Z
URL:https://www.hastingsmn.org/events/details/50-prime-time-living-expo-at-treasure-island-resort-casino-04-30-2013-113803
END:VEVENT

END:VCALENDAR
