BEGIN:VCALENDAR
VERSION:2.0
PRODID:-//ChamberMaster//Event Calendar 2.0//EN
METHOD:PUBLISH
X-PUBLISHED-TTL:P3D
REFRESH-INTERVAL:P3D
CALSCALE:GREGORIAN
BEGIN:VEVENT
DTSTART;VALUE=DATE:20130519
DTEND;VALUE=DATE:20130520
TRANSP:TRANSPARENT
X-MICROSOFT-CDO-ALLDAYEVENT:TRUE
SUMMARY:28th Annual Apple Blossom Races @ Carpenter St. Croix Valley Nature Center
DESCRIPTION:2K Fun Run | 5K Run/Walk | 10K | Half Marathon\n\n\n\nThe perfect way to kick off Spring with something for everyone!\n\nParking is at the Nature Center and rides will be provided to the start area.\n\nYou can register the day of the event or pre-register online. \n\nFor more information\, visit www.carpenternaturecenter.org or call 651.437.4359.
X-ALT-DESC;FMTTYPE=text/html:2K Fun Run | 5K Run/Walk | 10K | Half Marathon<br />\n<br />\nThe perfect way to kick off Spring with something for everyone!<br />\nParking is at the Nature Center and rides will be provided to the start area.<br />\nYou can register the day of the event or pre-register online.&nbsp\;<br />\nFor more information\, visit <a href="http://www.carpenternaturecenter.org">www.carpenternaturecenter.org</a>&nbsp\;or call 651.437.4359.<br />\n
LOCATION:Park at Carpenter Valley Nature Center. Shuttle service to starting line at St. Croix Bluffs Regional Park.
UID:e.606.113824
SEQUENCE:3
DTSTAMP:20260421T082752Z
URL:https://www.hastingsmn.org/events/details/28th-annual-apple-blossom-races-carpenter-st-croix-valley-nature-center-05-19-2013-113824
END:VEVENT

END:VCALENDAR
