BEGIN:VCALENDAR
VERSION:2.0
PRODID:-//ChamberMaster//Event Calendar 2.0//EN
METHOD:PUBLISH
X-PUBLISHED-TTL:P3D
REFRESH-INTERVAL:P3D
CALSCALE:GREGORIAN
BEGIN:VEVENT
DTSTART:20130503T140000Z
DTEND:20130504T180000Z
X-MICROSOFT-CDO-ALLDAYEVENT:FALSE
SUMMARY:2013 Rivertown Lions Citywide Garage sales
DESCRIPTION:The Rivertown Lions Citywide Garage sales are Friday and Saturday\, May 3 and 4.  Fee is $30 to advertise your sale.\n	\n		 \n	\n		Registration deadline is Wednesday\, April 17. Maps/listings in May 2 Star Gazette\n	\n		Form is available to download at e-clubhouse.org/sites/hastingsrivertown/. It is also available at hastingsstargazette.com.
X-ALT-DESC;FMTTYPE=text/html:<div style="color: gray">\n	The Rivertown Lions Citywide Garage sales are Friday and Saturday\, May 3 and 4. &nbsp\;Fee is $30 to advertise your sale.\n	<div>\n		&nbsp\;</div>\n	<div>\n		Registration deadline is Wednesday\, April 17. Maps/listings in May 2 Star Gazette</div>\n	<div>\n		Form is available to download at <a href="http://e-clubhouse.org/sites/hastingsrivertown/" title="blocked::http://e-clubhouse.org/sites/hastingsrivertown/">e-clubhouse.org/sites/hastingsrivertown/</a>. It is also available at <a href="http://hastingsstargazette.com/" title="blocked::http://hastingsstargazette.com/">hastingsstargazette.com</a>.</div>\n</div>\n
LOCATION:
UID:e.606.113805
SEQUENCE:3
DTSTAMP:20260421T082751Z
URL:https://www.hastingsmn.org/events/details/2013-rivertown-lions-citywide-garage-sales-05-03-2013-113805
END:VEVENT

END:VCALENDAR
